BEGIN:VCALENDAR
VERSION:2.0
PRODID:-//The Capital District Association of Rental Property Owners - ECPv6.15.20//NONSGML v1.0//EN
CALSCALE:GREGORIAN
METHOD:PUBLISH
X-WR-CALNAME:The Capital District Association of Rental Property Owners
X-ORIGINAL-URL:https://cdarpo.org
X-WR-CALDESC:Events for The Capital District Association of Rental Property Owners
REFRESH-INTERVAL;VALUE=DURATION:PT1H
X-Robots-Tag:noindex
X-PUBLISHED-TTL:PT1H
BEGIN:VTIMEZONE
TZID:America/New_York
BEGIN:DAYLIGHT
TZOFFSETFROM:-0500
TZOFFSETTO:-0400
TZNAME:EDT
DTSTART:20220313T070000
END:DAYLIGHT
BEGIN:STANDARD
TZOFFSETFROM:-0400
TZOFFSETTO:-0500
TZNAME:EST
DTSTART:20221106T060000
END:STANDARD
BEGIN:DAYLIGHT
TZOFFSETFROM:-0500
TZOFFSETTO:-0400
TZNAME:EDT
DTSTART:20230312T070000
END:DAYLIGHT
BEGIN:STANDARD
TZOFFSETFROM:-0400
TZOFFSETTO:-0500
TZNAME:EST
DTSTART:20231105T060000
END:STANDARD
BEGIN:DAYLIGHT
TZOFFSETFROM:-0500
TZOFFSETTO:-0400
TZNAME:EDT
DTSTART:20240310T070000
END:DAYLIGHT
BEGIN:STANDARD
TZOFFSETFROM:-0400
TZOFFSETTO:-0500
TZNAME:EST
DTSTART:20241103T060000
END:STANDARD
BEGIN:DAYLIGHT
TZOFFSETFROM:-0500
TZOFFSETTO:-0400
TZNAME:EDT
DTSTART:20250309T070000
END:DAYLIGHT
BEGIN:STANDARD
TZOFFSETFROM:-0400
TZOFFSETTO:-0500
TZNAME:EST
DTSTART:20251102T060000
END:STANDARD
BEGIN:DAYLIGHT
TZOFFSETFROM:-0500
TZOFFSETTO:-0400
TZNAME:EDT
DTSTART:20260308T070000
END:DAYLIGHT
BEGIN:STANDARD
TZOFFSETFROM:-0400
TZOFFSETTO:-0500
TZNAME:EST
DTSTART:20261101T060000
END:STANDARD
BEGIN:DAYLIGHT
TZOFFSETFROM:-0500
TZOFFSETTO:-0400
TZNAME:EDT
DTSTART:20270314T070000
END:DAYLIGHT
BEGIN:STANDARD
TZOFFSETFROM:-0400
TZOFFSETTO:-0500
TZNAME:EST
DTSTART:20271107T060000
END:STANDARD
END:VTIMEZONE
BEGIN:VEVENT
DTSTART;TZID=America/New_York:20231109T190000
DTEND;TZID=America/New_York:20231109T210000
DTSTAMP:20260425T074144
CREATED:20230905T203818Z
LAST-MODIFIED:20231103T154203Z
UID:3448-1699556400-1699563600@cdarpo.org
SUMMARY:November 2023 Meeting
DESCRIPTION:
URL:https://cdarpo.org/event/november-2023-meeting/
LOCATION:Location: Courtyard by Marriot\, 515 River Street\, Troy\, NY\, 12180\, United States
CATEGORIES:Member Meeting
ATTACH;FMTTYPE=image/jpeg:https://cdarpo.org/wp-content/uploads/2021/09/november-CDARPO-meeting.jpg
END:VEVENT
BEGIN:VEVENT
DTSTART;TZID=America/New_York:20231214T190000
DTEND;TZID=America/New_York:20231214T210000
DTSTAMP:20260425T074144
CREATED:20230905T203912Z
LAST-MODIFIED:20231127T194613Z
UID:3450-1702580400-1702587600@cdarpo.org
SUMMARY:December 2023 Meeting
DESCRIPTION:Meeting at Marriott Hotel 189 Wolf Rd\, Albany\, NY 12205
URL:https://cdarpo.org/event/december-2023-meeting/
LOCATION:Marriott in Colonie\, 189 Wolf Rd\, Albany\, 12203\, United States
CATEGORIES:Member Meeting
ATTACH;FMTTYPE=image/jpeg:https://cdarpo.org/wp-content/uploads/2021/09/december-CDARPO-meeting.jpg
END:VEVENT
BEGIN:VEVENT
DTSTART;TZID=America/New_York:20240613T190000
DTEND;TZID=America/New_York:20240613T200000
DTSTAMP:20260425T074144
CREATED:20231227T133151Z
LAST-MODIFIED:20240508T142551Z
UID:3539-1718305200-1718308800@cdarpo.org
SUMMARY:June 2024 Membership Meeting
DESCRIPTION:Please join us to hear from a speaker and enjoy networking and refreshments.
URL:https://cdarpo.org/event/june-2024-membership-meeting/
LOCATION:Courtyard by Marriott in Albany\, 227 Wolf Rd\, Albany\, NY\, 12205\, United States
CATEGORIES:Member Meeting
ATTACH;FMTTYPE=image/jpeg:https://cdarpo.org/wp-content/uploads/2021/03/june-member-meeting-cdarpo-1.jpg
END:VEVENT
BEGIN:VEVENT
DTSTART;TZID=America/New_York:20260219T190000
DTEND;TZID=America/New_York:20260219T210000
DTSTAMP:20260425T074144
CREATED:20260129T211451Z
LAST-MODIFIED:20260129T211954Z
UID:3761-1771527600-1771534800@cdarpo.org
SUMMARY:February 2026 Membership Meeting
DESCRIPTION:
URL:https://cdarpo.org/event/february-2026-membership-meeting/
LOCATION:200 Henry Johnson Blvd\, 200 Henry Johnson Blvd\, Albany\, NY\, United States
CATEGORIES:Member Meeting
ATTACH;FMTTYPE=image/jpeg:https://cdarpo.org/wp-content/uploads/2023/02/1.jpg
END:VEVENT
BEGIN:VEVENT
DTSTART;TZID=America/New_York:20260319T190000
DTEND;TZID=America/New_York:20260319T210000
DTSTAMP:20260425T074144
CREATED:20260129T211606Z
LAST-MODIFIED:20260129T211924Z
UID:3764-1773946800-1773954000@cdarpo.org
SUMMARY:March 2026 Membership Meeting
DESCRIPTION:
URL:https://cdarpo.org/event/march-2026-membership-meeting/
LOCATION:200 Henry Johnson Blvd\, 200 Henry Johnson Blvd\, Albany\, NY\, United States
CATEGORIES:Member Meeting
ATTACH;FMTTYPE=image/jpeg:https://cdarpo.org/wp-content/uploads/2023/02/2.jpg
END:VEVENT
END:VCALENDAR